BEGIN:VCALENDAR
VERSION:2.0
CALSCALE:GREGORIAN
METHOD:PUBLISH
X-WR-TIMEZONE:Australia/Sydney
BEGIN:VTIMEZONE
TZID:Australia/Sydney
BEGIN:STANDARD
TZNAME:AEST
END:STANDARD
END:VTIMEZONE
BEGIN:VEVENT
DTSTART;TZID=Australia/Sydney:20260518
DTEND;TZID=Australia/Sydney:20260518
DTSTAMP:20260424T020314
UID:119
SUMMARY:Swimming - Grades 3 &amp; 4; Grades 5/6
DESCRIPTION:




Session times to be confirmed and allocated in Compass permissions


SEQUENCE:0
STATUS:CONFIRMED
TRANSP:OPAQUE
END:VEVENT
END:VCALENDAR