BEGIN:VCALENDAR
VERSION:2.0
CALSCALE:GREGORIAN
METHOD:PUBLISH
X-WR-TIMEZONE:Australia/Sydney
BEGIN:VTIMEZONE
TZID:Australia/Sydney
BEGIN:STANDARD
TZNAME:AEST
END:STANDARD
END:VTIMEZONE
BEGIN:VEVENT
DTSTART;TZID=Australia/Sydney:20260511
DTEND;TZID=Australia/Sydney:20260511
DTSTAMP:20260424T021107
UID:118
SUMMARY:Swimming - Prep and Grades 1 &amp; 2
DESCRIPTION:




Session times to be confirmed and allocated in Compass permissions


SEQUENCE:0
STATUS:CONFIRMED
TRANSP:OPAQUE
END:VEVENT
END:VCALENDAR