BEGIN:VCALENDAR
VERSION:2.0
CALSCALE:GREGORIAN
METHOD:PUBLISH
X-WR-TIMEZONE:Australia/Sydney
BEGIN:VTIMEZONE
TZID:Australia/Sydney
BEGIN:STANDARD
TZNAME:AEST
END:STANDARD
END:VTIMEZONE
BEGIN:VEVENT
DTSTART;TZID=Australia/Sydney:20260525
DTEND;TZID=Australia/Sydney:20260525
DTSTAMP:20260424T020753
UID:115
SUMMARY:Curriculum Day - BPS Student Free Day
DESCRIPTION:




This is a BPS School Council approved student free day for whole school professional learning. Students are not required to attend Bayswater Primary School on this day.


SEQUENCE:0
STATUS:CONFIRMED
TRANSP:OPAQUE
END:VEVENT
END:VCALENDAR